BEGIN:VCALENDAR
VERSION:2.0
METHOD:PUBLISH
BEGIN:VEVENT
DTSTAMP:20260420T052136Z
DTSTART:20260901T213000Z
DTEND:20260901T213000Z
SUMMARY:Main Street Business Improvement Area
END:VEVENT
END:VCALENDAR
