BEGIN:VCALENDAR
VERSION:2.0
METHOD:PUBLISH
BEGIN:VEVENT
DTSTAMP:20260421T082321Z
DTSTART:20260420T220000Z
DTEND:20260420T230000Z
SUMMARY:Healthcare Advisory Committee
END:VEVENT
END:VCALENDAR
