BEGIN:VCALENDAR
VERSION:2.0
METHOD:PUBLISH
BEGIN:VEVENT
DTSTAMP:20260421T095650Z
DTSTART:20260320T200000Z
DTEND:20260320T200000Z
SUMMARY:Grant Policy Advisory Committee
END:VEVENT
END:VCALENDAR
