BEGIN:VCALENDAR
VERSION:2.0
METHOD:PUBLISH
BEGIN:VEVENT
DTSTAMP:20260421T095435Z
DTSTART:20260317T230000Z
DTEND:20260317T230000Z
SUMMARY:Museum, Heritage and Culture Board
END:VEVENT
END:VCALENDAR
