BEGIN:VCALENDAR
VERSION:2.0
METHOD:PUBLISH
BEGIN:VEVENT
DTSTAMP:20260421T192026Z
DTSTART:20260601T133000Z
DTEND:20260601T133000Z
SUMMARY:Scavenger Hunts
LOCATION:Port Colborne Public Library 310 King St.
END:VEVENT
END:VCALENDAR
