BEGIN:VCALENDAR
VERSION:2.0
METHOD:PUBLISH
BEGIN:VEVENT
DTSTAMP:20260425T005201Z
DTSTART:20260501T230000Z
DTEND:20260501T230000Z
SUMMARY:Lakeshore Catholic Presents CLUE
LOCATION:150 Janet St, Port Colborne ON L3K 2E7
END:VEVENT
END:VCALENDAR
