BEGIN:VCALENDAR
VERSION:2.0
METHOD:PUBLISH
BEGIN:VEVENT
DTSTAMP:20260424T232413Z
DTSTART:20260430T230000Z
DTEND:20260430T230000Z
SUMMARY:Lakeshore Catholic Presents CLUE
LOCATION:150 Janet St, Port Colborne ON L3K 2E7
END:VEVENT
END:VCALENDAR
