BEGIN:VCALENDAR
VERSION:2.0
METHOD:PUBLISH
BEGIN:VEVENT
DTSTAMP:20260423T092006Z
DTSTART:20260402T180000Z
DTEND:20260402T190000Z
SUMMARY:Yarn and Yack
LOCATION:Port Colborne Public Library 310 King St.
END:VEVENT
END:VCALENDAR
