BEGIN:VCALENDAR
VERSION:2.0
METHOD:PUBLISH
BEGIN:VEVENT
DTSTAMP:20260423T162228Z
DTSTART:20241201T170000Z
DTEND:20241201T210000Z
SUMMARY:48th Annual Grand Old Christmas Festival
LOCATION:280 King St. 
END:VEVENT
END:VCALENDAR
