BEGIN:VCALENDAR
VERSION:2.0
METHOD:PUBLISH
BEGIN:VEVENT
DTSTAMP:20260420T033912Z
DTSTART:20240812T133000Z
DTEND:20240812T133000Z
SUMMARY:Scavenger Hunts
LOCATION:Port Colborne Public Library 310 King St.
END:VEVENT
END:VCALENDAR
