BEGIN:VCALENDAR
VERSION:2.0
METHOD:PUBLISH
BEGIN:VEVENT
DTSTAMP:20260422T095929Z
DTSTART:20240614T140000Z
DTEND:20240614T153000Z
SUMMARY:Urban History Walking Tour - West St. 
LOCATION:Corner of West St. and Clarence St. (gather near the compass monument)
END:VEVENT
END:VCALENDAR
