BEGIN:VCALENDAR
VERSION:2.0
METHOD:PUBLISH
BEGIN:VEVENT
DTSTAMP:20260425T231104Z
DTSTART:20230317T180000Z
DTEND:20230317T180000Z
SUMMARY:Snow White
LOCATION:296 Fielden Avenue, Port Colborne ON L3K 4T6 (Access off Carter Street)
END:VEVENT
END:VCALENDAR
