BEGIN:VCALENDAR
VERSION:2.0
METHOD:PUBLISH
BEGIN:VEVENT
DTSTAMP:20260422T092658Z
DTSTART:20210814T140000Z
DTEND:20210814T200000Z
SUMMARY:Free Comic Book Day
LOCATION:310 King St, Port Colborne
END:VEVENT
END:VCALENDAR
