BEGIN:VCALENDAR
VERSION:2.0
METHOD:PUBLISH
BEGIN:VEVENT
DTSTAMP:20260420T215443Z
DTSTART:20210224T140000Z
DTEND:20210224T140000Z
SUMMARY:Polar Plunge
LOCATION:66 Charlotte Street
END:VEVENT
END:VCALENDAR
